
BEGIN:VCALENDAR
VERSION:2.0
PRODID:-//whatsonbeverley.com - ECPv6.15.15//NONSGML v1.0//EN
CALSCALE:GREGORIAN
METHOD:PUBLISH
X-WR-CALNAME:whatsonbeverley.com
X-ORIGINAL-URL:https://whatsonbeverley.com
X-WR-CALDESC:Events for whatsonbeverley.com
REFRESH-INTERVAL;VALUE=DURATION:PT1H
X-Robots-Tag:noindex
X-PUBLISHED-TTL:PT1H
BEGIN:VTIMEZONE
TZID:UTC
BEGIN:STANDARD
TZOFFSETFROM:+0000
TZOFFSETTO:+0000
TZNAME:UTC
DTSTART:20250101T000000
END:STANDARD
END:VTIMEZONE
BEGIN:VEVENT
DTSTART;TZID=UTC:20260306T113000
DTEND;TZID=UTC:20260306T133000
DTSTAMP:20260419T205643
CREATED:20260224T094950Z
LAST-MODIFIED:20260224T095818Z
UID:1172-1772796600-1772803800@whatsonbeverley.com
SUMMARY:North Yorkshire\, In-Person Meetup for People Living with Cavernoma
DESCRIPTION:
URL:https://whatsonbeverley.com/event/north-yorkshire-in-person-meetup-for-people-living-with-cavernoma/
LOCATION:Boardroom\, 22 Lairgate\, Beverley\, HU17 8EP\, United Kingdom
ATTACH;FMTTYPE=image/png:https://whatsonbeverley.com/wp-content/uploads/2026/02/22LairgateWhatsOnBeverleyEvent.png
END:VEVENT
BEGIN:VEVENT
DTSTART;TZID=UTC:20260316T190000
DTEND;TZID=UTC:20260316T190000
DTSTAMP:20260419T205643
CREATED:20260225T134554Z
LAST-MODIFIED:20260225T135430Z
UID:1224-1773687600-1773687600@whatsonbeverley.com
SUMMARY:Hop into Spring: Easter Paint & Sip Night @ Hayride\, Beverley
DESCRIPTION:The Hayride in Beverley is hosting a creative Monday night workshop themed around the arrival of spring and the Easter season. This session offers a relaxed environment for participants to engage in a guided painting activity within a cozy pub setting. \nWorkshop Details: \n\n\nAccessible Instruction: The event is designed for all skill levels\, providing step-by-step guidance for beginners while allowing experienced painters the freedom to experiment with their own style. \n\n\nThematic Focus: The evening centers on seasonal “pastel dreams” and festive imagery\, emphasizing a lighthearted and cheerful atmosphere. \n\n\nSocial Setting: Attendees can expect a low-pressure experience focused on good company and creative relaxation. \n\n\nVenue Amenities: Participants can enjoy the hospitality of the venue\, with the option to purchase drinks while they work on their pieces.
URL:https://whatsonbeverley.com/event/hop-into-spring-easter-paint-sip-night-hayride-beverley/
LOCATION:Hayride Pub\, Grange Way\, Beverley\, HU17 9GP
CATEGORIES:Creative
ATTACH;FMTTYPE=image/png:https://whatsonbeverley.com/wp-content/uploads/2026/02/Hop-into-SpringEasterPaintSipNightWhatsOnBeverley.png
END:VEVENT
END:VCALENDAR