
BEGIN:VCALENDAR
VERSION:2.0
PRODID:-//whatsonbeverley.com - ECPv6.15.15//NONSGML v1.0//EN
CALSCALE:GREGORIAN
METHOD:PUBLISH
X-WR-CALNAME:whatsonbeverley.com
X-ORIGINAL-URL:https://whatsonbeverley.com
X-WR-CALDESC:Events for whatsonbeverley.com
REFRESH-INTERVAL;VALUE=DURATION:PT1H
X-Robots-Tag:noindex
X-PUBLISHED-TTL:PT1H
BEGIN:VTIMEZONE
TZID:UTC
BEGIN:STANDARD
TZOFFSETFROM:+0000
TZOFFSETTO:+0000
TZNAME:UTC
DTSTART:20250101T000000
END:STANDARD
END:VTIMEZONE
BEGIN:VEVENT
DTSTART;TZID=UTC:20260326T183000
DTEND;TZID=UTC:20260326T200000
DTSTAMP:20260420T050419
CREATED:20260225T133716Z
LAST-MODIFIED:20260225T133911Z
UID:1213-1774549800-1774555200@whatsonbeverley.com
SUMMARY:March Junk Journal Club
DESCRIPTION:The Junk Journal Club returns for March — all you need to bring is your journal. Everything else will be waiting for you.
URL:https://whatsonbeverley.com/event/march-junk-journal-club/
LOCATION:Junk Soul Smothered Bar & Kitchen\, 7 New Walkergate\, Beverley\, HU17 9EH\, United Kingdom
CATEGORIES:Wellbeing
ATTACH;FMTTYPE=image/png:https://whatsonbeverley.com/wp-content/uploads/2026/02/JunkSoulSmotheredBarKitchenWhatsOnBeverleyEvent.png
END:VEVENT
BEGIN:VEVENT
DTSTART;TZID=UTC:20260326T130000
DTEND;TZID=UTC:20260326T150000
DTSTAMP:20260420T050419
CREATED:20260224T102546Z
LAST-MODIFIED:20260224T102847Z
UID:1188-1774530000-1774537200@whatsonbeverley.com
SUMMARY:MHST Parent Workshop - Behaviour as a Form of Communication
DESCRIPTION:How to recognise different types of behaviour to understand what your child may be communicating and how to respond. \nKey Learning: \n• Introduction to communication. \n• Understanding emotions \n• What is behaviour? \n• What is communication? \n• How do we communicate? \n• Understanding communication. \n• Understanding emotions. \n• Behaviours of a concern. \n• Coping with these behaviours.
URL:https://whatsonbeverley.com/event/mhst-parent-workshop-behaviour-as-a-form-of-communication/
LOCATION:Beverley Children’s Centre\, Coltman Avenue\, Beverley\, HU17 9LP
CATEGORIES:Wellbeing
ATTACH;FMTTYPE=image/png:https://whatsonbeverley.com/wp-content/uploads/2026/02/whatsonBeverleyEventWellbeingMentalHealth.png
END:VEVENT
BEGIN:VEVENT
DTSTART;TZID=UTC:20260320T193000
DTEND;TZID=UTC:20260320T223000
DTSTAMP:20260420T050419
CREATED:20260224T092530Z
LAST-MODIFIED:20260224T093620Z
UID:1150-1774035000-1774045800@whatsonbeverley.com
SUMMARY:Steve Knightley: Sanctuary - Songs from Sacred Spaces 2026
DESCRIPTION:Experience an evocative evening where history meets harmony. Following his acclaimed Winter Yards tour\, Steve Knightley returns with a series of intimate performances specifically curated for the unique acoustics of churches and ancient chapels. Joined by special guest Daniel Salvatore—whose ethereal handpan soundscapes provide a meditative backdrop—Steve will perform stripped-back arrangements that bridge the gap between storyteller and listener. \nAs always\, enjoy the signature St. Nick’s hospitality\, featuring a warm welcome and a fully licensed bar. \nwww.steveknightley.com \nwww.facebook.com/steveknightley \nwww.instagram.com/steveknightleyofficial \nwww.x.com/sohsteve \nwww.youtube.com/@SteveKnightleyOfficial?sub_confirmation=1 \nhttps://open.spotify.com/artist/7bEdfQZ5D4PoPlqTgeeZv8 \nhttps://music.apple.com/gb/artist/steve-knightley/156045021 \nwww.facebook.com/Daniel.Salvator33 \nwww.facebook.com/Salvatore.Handpans \nwww.instagram.com/salvatore_handpans
URL:https://whatsonbeverley.com/event/steve-knightley-sanctuary-songs-from-sacred-spaces-2026/
LOCATION:St Nicholas’ Church\, Holme Church Lane\, Beverley\, HU17 0QP\, United Kingdom
CATEGORIES:Music
ATTACH;FMTTYPE=image/png:https://whatsonbeverley.com/wp-content/uploads/2026/02/SteveKnightleyStNicholasChurchWhatsOnBeverleyEvent.png
END:VEVENT
BEGIN:VEVENT
DTSTART;TZID=UTC:20260312T200000
DTEND;TZID=UTC:20260312T223000
DTSTAMP:20260420T050419
CREATED:20260223T095448Z
LAST-MODIFIED:20260224T093509Z
UID:1109-1773345600-1773354600@whatsonbeverley.com
SUMMARY:Don't Stop Queen Now: Live at Beverley Memorial Hall
DESCRIPTION:Queen tribute act Don’t Stop Queen Now returns to Beverley Memorial Hall for a Thursday night show\, hot on the heels of three sold-out performances in 2025. \nBilled as the UK’s largest Queen tribute production\, the show promises a full theatrical experience packed with the classics — Bohemian Rhapsody\, We Will Rock You\, We Are The Champions\, Don’t Stop Me Now and plenty more\, plus a few deep cuts for the dedicated fans. \nThe band bring years of live experience to the stage\, with tight harmonies\, electrifying guitar work and genuine attention to detail that makes for an impressively authentic night. Fronting the show is Michael Spence\, who has portrayed Freddie Mercury on ITV1\, bringing real star power to a performance that does justice to one of the greatest bands of all time. \nWhether you’re a lifelong Queen devotee or just looking for a great night out in Beverley\, this one is well worth your time. \nDoors 7pm
URL:https://whatsonbeverley.com/event/dont-stop-queen-now-live-at-beverley-memorial-hall/
LOCATION:Beverley Memorial Hall\, 73-75 Lairgate\, Beverley\, East Riding of Yorkshire\, HU17 8HN\, United Kingdom
CATEGORIES:Music
ATTACH;FMTTYPE=image/png:https://whatsonbeverley.com/wp-content/uploads/2026/02/queenTribute.png
END:VEVENT
BEGIN:VEVENT
DTSTART;TZID=UTC:20260310T180000
DTEND;TZID=UTC:20260310T200000
DTSTAMP:20260420T050419
CREATED:20260224T101251Z
LAST-MODIFIED:20260224T102437Z
UID:1190-1773165600-1773172800@whatsonbeverley.com
SUMMARY:A WAC- We Are Creative Networking Event for Beverley
DESCRIPTION:We Are Creative (WAC) is bringing its networking series to Beverley with a free evening event featuring two fascinating creatives from East Yorkshire. \nFree entry — open to all creatives living or working in East Yorkshire or Hull \nThe evening will feature Hannah Willetts and Gordon Meredith\, who will talk about their work and share honest reflections on the opportunities\, rewards and challenges of building a life in the creative arts. There’ll also be time for questions and conversation\, so bring your ideas\, projects and plans. \nHannah Willetts is Curator of Beverley Art Gallery\, where she oversees the exhibition programme and fine art collection. In 2024 she led the gallery’s first full collection redisplay in over a decade\, with a focus on reinterpreting the stories of women in its history. Her background spans The Hepworth Wakefield\, Glasgow Museums\, Sotheby’s and Lyon & Turnbull\, with expertise in modernism\, collections management and access. \nGordon Meredith trained in exhibition\, theatre and museum design at Hull College of Art and Design before spending 25 years working across the UK and Europe\, winning awards in gallery design and cultural landscape interpretation. A move into acting in 2010 opened a new chapter\, and he now combines his passions for history and performance as a playwright and scriptwriter\, working with museums\, historic houses and churches to bring real stories to life through theatre\, film and living history. \nWAC We Are Creative is supported by Hey Creative and the East Riding of Yorkshire. \nSpeakers\n \nJohn Doeer\nFounder Envato \n \nJohn Doeer\nFounder Envato \n \nJoanna Smith\nVP Design Apple \n \nJoanna Smith\nVP Design Apple \n \nLuis Gallop\nHead Engineering Dell \nFAQ\nAre tickets refundable or transferable? \nTickets are non-refundable but may be transferable. Please contact us directly for any ticket transfer requests. \nIs there parking available at the venue? \nYes\, there will be designated parking areas at the venue. Valet services might also be available. \nCan dietary restrictions or allergies be accommodated? \nWe aim to accommodate dietary restrictions. Please inform us in advance by contacting our team to ensure appropriate arrangements. \nHow can I become a sponsor or volunteer for the event? \nWe appreciate your interest in supporting our event! Please contact [Organizer’s Name] at [Phone Number] or [Email Address] for sponsorship or volunteer opportunities. \nAre there nearby accommodations for out-of-town guests? \nWe have partnered with nearby hotels to offer discounted rates for event attendees. Please visit our event website for more information on accommodation options.
URL:https://whatsonbeverley.com/event/a-wac-we-are-creative-networking-event-for-beverley/
LOCATION:Champney Treasure House\, Champney Road\, Beverley\, HU17 8HE\, United Kingdom
CATEGORIES:Creative
ATTACH;FMTTYPE=image/png:https://whatsonbeverley.com/wp-content/uploads/2026/02/whatsOnBeverleyEventCreativeChampneyHouse.png
END:VEVENT
BEGIN:VEVENT
DTSTART;TZID=UTC:20260307T200000
DTEND;TZID=UTC:20260307T220000
DTSTAMP:20260420T050419
CREATED:20260225T141008Z
LAST-MODIFIED:20260225T141027Z
UID:1241-1772913600-1772920800@whatsonbeverley.com
SUMMARY:An evening with Crazy Man Michael
DESCRIPTION:Join Crazy Man Michael Upstairs at Gemini for a night of live acoustic music. CMM is a duo- Emily River Thomson and Martin Peirson.
URL:https://whatsonbeverley.com/event/an-evening-with-crazy-man-michael/
LOCATION:Gemini Chocolate\, 33 North Bar Within\, Beverley\, HU17 8DB\, United Kingdom
CATEGORIES:Music
ATTACH;FMTTYPE=image/png:https://whatsonbeverley.com/wp-content/uploads/2026/02/GeminiChocolateWhatsOnBeverleyEvent.png
END:VEVENT
BEGIN:VEVENT
DTSTART;TZID=UTC:20260306T113000
DTEND;TZID=UTC:20260306T133000
DTSTAMP:20260420T050419
CREATED:20260224T094950Z
LAST-MODIFIED:20260224T095818Z
UID:1172-1772796600-1772803800@whatsonbeverley.com
SUMMARY:North Yorkshire\, In-Person Meetup for People Living with Cavernoma
DESCRIPTION:
URL:https://whatsonbeverley.com/event/north-yorkshire-in-person-meetup-for-people-living-with-cavernoma/
LOCATION:Boardroom\, 22 Lairgate\, Beverley\, HU17 8EP\, United Kingdom
ATTACH;FMTTYPE=image/png:https://whatsonbeverley.com/wp-content/uploads/2026/02/22LairgateWhatsOnBeverleyEvent.png
END:VEVENT
BEGIN:VEVENT
DTSTART;TZID=UTC:20260316T190000
DTEND;TZID=UTC:20260316T190000
DTSTAMP:20260420T050419
CREATED:20260225T134554Z
LAST-MODIFIED:20260225T135430Z
UID:1224-1773687600-1773687600@whatsonbeverley.com
SUMMARY:Hop into Spring: Easter Paint & Sip Night @ Hayride\, Beverley
DESCRIPTION:The Hayride in Beverley is hosting a creative Monday night workshop themed around the arrival of spring and the Easter season. This session offers a relaxed environment for participants to engage in a guided painting activity within a cozy pub setting. \nWorkshop Details: \n\n\nAccessible Instruction: The event is designed for all skill levels\, providing step-by-step guidance for beginners while allowing experienced painters the freedom to experiment with their own style. \n\n\nThematic Focus: The evening centers on seasonal “pastel dreams” and festive imagery\, emphasizing a lighthearted and cheerful atmosphere. \n\n\nSocial Setting: Attendees can expect a low-pressure experience focused on good company and creative relaxation. \n\n\nVenue Amenities: Participants can enjoy the hospitality of the venue\, with the option to purchase drinks while they work on their pieces.
URL:https://whatsonbeverley.com/event/hop-into-spring-easter-paint-sip-night-hayride-beverley/
LOCATION:Hayride Pub\, Grange Way\, Beverley\, HU17 9GP
CATEGORIES:Creative
ATTACH;FMTTYPE=image/png:https://whatsonbeverley.com/wp-content/uploads/2026/02/Hop-into-SpringEasterPaintSipNightWhatsOnBeverley.png
END:VEVENT
END:VCALENDAR